Workbook

Sheet 总名册
A1: 黄鹤楼酒业（随州）有限公司 企业岗位技能提升培训人员补贴资金公示名单
A2: 序号 | B2: 姓名 | C2: 性别 | D2: 出生年月日 | E2: 劳动合 同期限（月） | F2: 劳动合同 签订日期 | G2: 培训岗位 （职业/工种） | H2: 班级 编号 | I2: 培训时间 | J2: 补贴金额 （元）
A3: 1 | B3: 郝小莉 | C3: 女 | D3: 19760209 | E3: =VLOOKUP(B3,[1]随州在职正式员工劳动合同登记台账!$D$4:$V$208,19,0) -> 无固定期限 | F3: =VLOOKUP(B3,[1]随州在职正式员工劳动合同登记台账!$D$4:$U$208,18,0) -> 44562 | G3: 酿酒师 | H3: 1班 | I3: 2023/4/20-2023/5/30 | J3: 400
A4: 2 | B4: 甘文峰 | C4: 男 | D4: 19820125 | E4: =VLOOKUP(B4,[1]随州在职正式员工劳动合同登记台账!$D$4:$V$208,19,0) -> 无固定期限 | F4: =VLOOKUP(B4,[1]随州在职正式员工劳动合同登记台账!$D$4:$U$208,18,0) -> 44562 | G4: 酿酒师 | H4: 1班 | I4: 2023/4/20-2023/5/30 | J4: 400
A5: 3 | B5: 王蓉 | C5: 女 | D5: 19730812 | E5: 36 | F5: =VLOOKUP(B5,[1]随州在职正式员工劳动合同登记台账!$D$4:$U$208,18,0) -> 44562 | G5: 酿酒师 | H5: 1班 | I5: 2023/4/20-2023/5/30 | J5: 400
A6: 4 | B6: 章永凤 | C6: 女 | D6: 19760708 | E6: =VLOOKUP(B6,[1]随州在职正式员工劳动合同登记台账!$D$4:$V$208,19,0) -> 无固定期限 | F6: =VLOOKUP(B6,[1]随州在职正式员工劳动合同登记台账!$D$4:$U$208,18,0) -> 44562 | G6: 酿酒师 | H6: 1班 | I6: 2023/4/20-2023/5/30 | J6: 400
A7: 5 | B7: 张小华 | C7: 女 | D7: 19770824 | E7: =VLOOKUP(B7,[1]随州在职正式员工劳动合同登记台账!$D$4:$V$208,19,0) -> 无固定期限 | F7: =VLOOKUP(B7,[1]随州在职正式员工劳动合同登记台账!$D$4:$U$208,18,0) -> 44562 | G7: 酿酒师 | H7: 1班 | I7: 2023/4/20-2023/5/30 | J7: 400
A8: 6 | B8: 黄小秀 | C8: 女 | D8: 19730918 | E8: 36 | F8: =VLOOKUP(B8,[1]随州在职正式员工劳动合同登记台账!$D$4:$U$208,18,0) -> 44562 | G8: 酿酒师 | H8: 1班 | I8: 2023/4/20-2023/5/30 | J8: 400
A9: 7 | B9: 李雄英 | C9: 女 | D9: 19750218 | E9: 36 | F9: 42156 | G9: 酿酒师 | H9: 1班 | I9: 2023/4/20-2023/5/30 | J9: 400
A10: 8 | B10: 童艳林 | C10: 女 | D10: 19761207 | E10: =VLOOKUP(B10,[1]随州在职正式员工劳动合同登记台账!$D$4:$V$208,19,0) -> 无固定期限 | F10: =VLOOKUP(B10,[1]随州在职正式员工劳动合同登记台账!$D$4:$U$208,18,0) -> 44562 | G10: 酿酒师 | H10: 1班 | I10: 2023/4/20-2023/5/30 | J10: 400
A11: 9 | B11: 王晓燕 | C11: 女 | D11: 19771010 | E11: =VLOOKUP(B11,[1]随州在职正式员工劳动合同登记台账!$D$4:$V$208,19,0) -> 无固定期限 | F11: =VLOOKUP(B11,[1]随州在职正式员工劳动合同登记台账!$D$4:$U$208,18,0) -> 44562 | G11: 酿酒师 | H11: 1班 | I11: 2023/4/20-2023/5/30 | J11: 400
A12: 10 | B12: 张群 | C12: 女 | D12: 19871217 | E12: =VLOOKUP(B12,[1]随州在职正式员工劳动合同登记台账!$D$4:$V$208,19,0) -> 无固定期限 | F12: =VLOOKUP(B12,[1]随州在职正式员工劳动合同登记台账!$D$4:$U$208,18,0) -> 44562 | G12: 酿酒师 | H12: 1班 | I12: 2023/4/20-2023/5/30 | J12: 400
A13: 11 | B13: 郭自琴 | C13: 女 | D13: 19740424 | E13: 36 | F13: =VLOOKUP(B13,[1]随州在职正式员工劳动合同登记台账!$D$4:$U$208,18,0) -> 44562 | G13: 酿酒师 | H13: 1班 | I13: 2023/4/20-2023/5/30 | J13: 400
A14: 12 | B14: 冯代华 | C14: 女 | D14: 19750725 | E14: =VLOOKUP(B14,[1]随州在职正式员工劳动合同登记台账!$D$4:$V$208,19,0) -> 无固定期限 | F14: =VLOOKUP(B14,[1]随州在职正式员工劳动合同登记台账!$D$4:$U$208,18,0) -> 44562 | G14: 酿酒师 | H14: 1班 | I14: 2023/4/20-2023/5/30 | J14: 400
A15: 13 | B15: 徐艳钊 | C15: 女 | D15: 19760205 | E15: =VLOOKUP(B15,[1]随州在职正式员工劳动合同登记台账!$D$4:$V$208,19,0) -> 无固定期限 | F15: =VLOOKUP(B15,[1]随州在职正式员工劳动合同登记台账!$D$4:$U$208,18,0) -> 44562 | G15: 酿酒师 | H15: 1班 | I15: 2023/4/20-2023/5/30 | J15: 400
A16: 14 | B16: 罗琳琳 | C16: 女 | D16: 19881008 | E16: =VLOOKUP(B16,[1]随州在职正式员工劳动合同登记台账!$D$4:$V$208,19,0) -> 无固定期限 | F16: 41426 | G16: 酿酒师 | H16: 1班 | I16: 2023/4/20-2023/5/30 | J16: 400
A17: 15 | B17: 谢万军 | C17: 男 | D17: 19750301 | E17: =VLOOKUP(B17,[1]随州在职正式员工劳动合同登记台账!$D$4:$V$208,19,0) -> 无固定期限 | F17: =VLOOKUP(B17,[1]随州在职正式员工劳动合同登记台账!$D$4:$U$208,18,0) -> 44562 | G17: 酿酒师 | H17: 1班 | I17: 2023/4/20-2023/5/30 | J17: 400
A18: 16 | B18: 朱春艳 | C18: 女 | D18: 19790215 | E18: =VLOOKUP(B18,[1]随州在职正式员工劳动合同登记台账!$D$4:$V$208,19,0) -> 无固定期限 | F18: =VLOOKUP(B18,[1]随州在职正式员工劳动合同登记台账!$D$4:$U$208,18,0) -> 44562 | G18: 酿酒师 | H18: 1班 | I18: 2023/4/20-2023/5/30 | J18: 400
A19: 17 | B19: 肖海艳 | C19: 女 | D19: 19730426 | E19: 36 | F19: 41791 | G19: 酿酒师 | H19: 1班 | I19: 2023/4/20-2023/5/30 | J19: 400
A20: 18 | B20: 汪群 | C20: 女 | D20: 19810725 | E20: =VLOOKUP(B20,[1]随州在职正式员工劳动合同登记台账!$D$4:$V$208,19,0) -> 无固定期限 | F20: 41791 | G20: 酿酒师 | H20: 1班 | I20: 2023/4/20-2023/5/30 | J20: 400
A21: 19 | B21: 刘艳玲 | C21: 女 | D21: 19811211 | E21: =VLOOKUP(B21,[1]随州在职正式员工劳动合同登记台账!$D$4:$V$208,19,0) -> 无固定期限 | F21: =VLOOKUP(B21,[1]随州在职正式员工劳动合同登记台账!$D$4:$U$208,18,0) -> 44562 | G21: 酿酒师 | H21: 1班 | I21: 2023/4/20-2023/5/30 | J21: 400
A22: 20 | B22: 樊小翠 | C22: 女 | D22: 19790924 | E22: =VLOOKUP(B22,[1]随州在职正式员工劳动合同登记台账!$D$4:$V$208,19,0) -> 无固定期限 | F22: 42234 | G22: 酿酒师 | H22: 1班 | I22: 2023/4/20-2023/5/30 | J22: 400
A23: 21 | B23: 何俐俐 | C23: 女 | D23: 19861216 | E23: =VLOOKUP(B23,[1]随州在职正式员工劳动合同登记台账!$D$4:$V$208,19,0) -> 无固定期限 | F23: 42855 | G23: 酿酒师 | H23: 1班 | I23: 2023/4/20-2023/5/30 | J23: 400
A24: 22 | B24: 刘瞻 | C24: 男 | D24: 19931104 | E24: 36 | F24: 43556 | G24: 酿酒师 | H24: 1班 | I24: 2023/4/20-2023/5/30 | J24: 400
A25: 23 | B25: 蒋满满 | C25: 男 | D25: 19850228 | E25: 36 | F25: 43754 | G25: 酿酒师 | H25: 1班 | I25: 2023/4/20-2023/5/30 | J25: 400
A26: 24 | B26: 张艳林 | C26: 女 | D26: 19831207 | E26: 36 | F26: 43770 | G26: 酿酒师 | H26: 1班 | I26: 2023/4/20-2023/5/30 | J26: 400
A27: 25 | B27: 吴静 | C27: 女 | D27: 19860626 | E27: 36 | F27: 43770 | G27: 酿酒师 | H27: 1班 | I27: 2023/4/20-2023/5/30 | J27: 400
A28: 26 | B28: 李红梅 | C28: 女 | D28: 19860807 | E28: 36 | F28: 44136 | G28: 酿酒师 | H28: 1班 | I28: 2023/4/20-2023/5/30 | J28: 400
A29: 27 | B29: 汪燕 | C29: 女 | D29: 19821104 | E29: 36 | F29: 44136 | G29: 酿酒师 | H29: 1班 | I29: 2023/4/20-2023/5/30 | J29: 400
A30: 28 | B30: 胡艳妮 | C30: 女 | D30: 19860824 | E30: 36 | F30: 44136 | G30: 酿酒师 | H30: 1班 | I30: 2023/4/20-2023/5/30 | J30: 400
A31: 29 | B31: 刘成香 | C31: 男 | D31: 19870616 | E31: 36 | F31: 44287 | G31: 酿酒师 | H31: 1班 | I31: 2023/4/20-2023/5/30 | J31: 400
A32: 30 | B32: 张立福 | C32: 男 | D32: 19790619 | E32: 36 | F32: 44287 | G32: 酿酒师 | H32: 1班 | I32: 2023/4/20-2023/5/30 | J32: 400
A33: 31 | B33: 刘成 | C33: 男 | D33: 19850912 | E33: 36 | F33: 44287 | G33: 酿酒师 | H33: 1班 | I33: 2023/4/20-2023/5/30 | J33: 400
A34: 32 | B34: 王超2 | C34: 男 | D34: 19820723 | E34: 36 | F34: 44287 | G34: 酿酒师 | H34: 1班 | I34: 2023/4/20-2023/5/30 | J34: 400
A35: 33 | B35: 刘勋 | C35: 男 | D35: 19840929 | E35: 36 | F35: 44287 | G35: 酿酒师 | H35: 1班 | I35: 2023/4/20-2023/5/30 | J35: 400
... A159: 157 | B159: 陈技文 | C159: 男 | D159: 19961022 | E159: 36 | F159: 45019 | G159: 酿酒师 | H159: 3班 | I159: 2023/4/20-2023/5/30 | J159: 400
A160: 158 | B160: 闵波平 | C160: 男 | D160: 19631026 | E160: 无固定期限 | F160: 42583 | G160: 营销员 | H160: 4班 | I160: 2023/4/20-2023/5/30 | J160: 400
A161: 159 | B161: 郝明生 | C161: 男 | D161: 19660620 | E161: 无固定期限 | F161: 44562 | G161: 营销员 | H161: 4班 | I161: 2023/4/20-2023/5/30 | J161: 400
A162: 160 | B162: 孙兵政 | C162: 男 | D162: 19700206 | E162: 无固定期限 | F162: 44562 | G162: 营销员 | H162: 4班 | I162: 2023/4/20-2023/5/30 | J162: 400
A163: 161 | B163: 王辉 | C163: 女 | D163: 19830605 | E163: 无固定期限 | F163: 42583 | G163: 营销员 | H163: 4班 | I163: 2023/4/20-2023/5/30 | J163: 400
...
